BEGIN:VCALENDAR
CALSCALE:GREGORIAN
VERSION:2.0
NAME:Asheville Symphony Youth Orchestra Events
X-WR-CALNAME:Asheville Symphony Youth Orchestra Events
PRODID:-//CutTime//CutTime//EN
BEGIN:VEVENT
DESCRIPTION:***NOTE THAT THIS IS A TUESDAY NIGHT***\n\n\n\n**MORE DETAILS TO COME!**\n
DTEND:20250430T004500Z
DTSTAMP:20240912T153309Z
DTSTART:20250429T210000Z
SEQUENCE:24074
SUMMARY:Dress Rehearsal with TIME FOR THREE 
UID:709d0ca8-9e80-44fb-a4d2-9d0dc471af27
END:VEVENT
BEGIN:VEVENT
DESCRIPTION:**MORE DETAILS TO COME!**\n
DTEND:20250506T010000Z
DTSTAMP:20240912T153432Z
DTSTART:20250505T223000Z
SEQUENCE:30245
SUMMARY:Spring Concert (with TIME FOR THREE)
UID:accd6ee4-6abf-4c71-8253-409ea1a5607e
END:VEVENT
BEGIN:VEVENT
DESCRIPTION:Brass\, WW\, and Percussion\n
DTEND:20250530T000000Z
DTSTAMP:20240912T153636Z
DTSTART:20250529T203000Z
SEQUENCE:24073
SUMMARY:Auditions for 25-26 (Brass, WW, Percussion)
UID:b060e5b0-a949-4b4f-9240-1a2aa31106d9
END:VEVENT
BEGIN:VEVENT
DESCRIPTION:Brass\, WW\, and Percussion\n
DTEND:20250531T000000Z
DTSTAMP:20240912T153715Z
DTSTART:20250530T203000Z
SEQUENCE:24073
SUMMARY:Auditions for 25-26 (Brass, WW, Percussion)
UID:76914b0b-f8f5-4814-9e65-2ee03f462dfd
END:VEVENT
BEGIN:VEVENT
DESCRIPTION:String Students Only\n
DTEND:20250531T200000Z
DTSTAMP:20240912T153906Z
DTSTART:20250531T140000Z
SEQUENCE:24073
SUMMARY:Auditions for 25-26 (Strings)
UID:6befc301-bb41-4aee-ad9f-57da9222d625
END:VEVENT
BEGIN:VEVENT
DESCRIPTION:String Students Only\n
DTEND:20250601T230000Z
DTSTAMP:20240912T153942Z
DTSTART:20250601T180000Z
SEQUENCE:24073
SUMMARY:Auditions for 25-26 (Strings)
UID:06394b36-078c-480a-b494-d6ad163b95df
END:VEVENT
BEGIN:VEVENT
DESCRIPTION:Only for those with APPROVED CONFLICTS from earlier auditions. These are not "second chance" auditions. \n\n\n\nThese are for ALL instruments.\n
DTEND:20250610T000000Z
DTSTAMP:20240912T154054Z
DTSTART:20250609T210000Z
SEQUENCE:24073
SUMMARY:Auditions for 25-26 (Make-Up)
UID:faf49f82-ae41-4450-9ad3-ae06dcf2b2ff
END:VEVENT
BEGIN:VEVENT
DTEND:20250906T180000Z
DTSTAMP:20250624T171146Z
DTSTART:20250906T130000Z
SEQUENCE:1
SUMMARY:Kick-Off Event - Overture, Divertimento, Sinfonia, Flute Choir
UID:ae063819-3e10-40d5-b6d2-be109b3258fe
END:VEVENT
BEGIN:VEVENT
DESCRIPTION:<https://sites.google.com/ashevillesymphony.org/asyo/rehearsal-details>\n\n
DTEND:20250909T004500Z
DTSTAMP:20250624T154540Z
DTSTART:20250908T210000Z
SEQUENCE:1888
SUMMARY:ASYO Rehearsal
UID:77938177-594f-4b68-97c4-83767b0bd4f0
END:VEVENT
BEGIN:VEVENT
DESCRIPTION:Kick off event on the campus of Brevard Music Center\n
DTEND:20250913T200000Z
DTSTAMP:20250624T171304Z
DTSTART:20250913T130000Z
SEQUENCE:1
SUMMARY:Kick-Off Event - Concert, Youth Philharmonic, Percussion
UID:78f99c3f-e21c-4e4d-908a-2dbc76506bbb
END:VEVENT
BEGIN:VEVENT
DESCRIPTION:<https://sites.google.com/ashevillesymphony.org/asyo/rehearsal-details>\n\n
DTEND:20250916T004500Z
DTSTAMP:20250624T163636Z
DTSTART:20250915T210000Z
SEQUENCE:0
SUMMARY:ASYO Rehearsal
UID:3fb8330e-4087-41d9-9fda-077f3beb6c49
END:VEVENT
BEGIN:VEVENT
DESCRIPTION:The ASYO Flute Choir meets from 6:15-7:15 in the Large Dance Studio. \n
DTEND:20250915T231500Z
DTSTAMP:20250715T150533Z
DTSTART:20250915T221500Z
SEQUENCE:1
SUMMARY:Flute Choir Rehearsal
UID:236178c5-d208-489b-b9e0-58baf2511c2f
END:VEVENT
BEGIN:VEVENT
DESCRIPTION:<https://sites.google.com/ashevillesymphony.org/asyo/rehearsal-details>\n\n
DTEND:20250923T004500Z
DTSTAMP:20250624T163636Z
DTSTART:20250922T210000Z
SEQUENCE:0
SUMMARY:ASYO Rehearsal
UID:34700e40-df27-4e33-a28b-3fc241abc340
END:VEVENT
BEGIN:VEVENT
DESCRIPTION:<https://sites.google.com/ashevillesymphony.org/asyo/rehearsal-details>\n\n
DTEND:20250930T004500Z
DTSTAMP:20250624T163636Z
DTSTART:20250929T210000Z
SEQUENCE:0
SUMMARY:ASYO Rehearsal
UID:6e581481-cee3-4370-8eb0-01231875297a
END:VEVENT
BEGIN:VEVENT
DESCRIPTION:The ASYO Flute Choir meets from 6:15-7:15 in the Large Dance Studio. \n
DTEND:20250929T231500Z
DTSTAMP:20250715T150846Z
DTSTART:20250929T221500Z
SEQUENCE:0
SUMMARY:Flute Choir Rehearsal
UID:e95d92fd-f6a3-4021-b4bc-ce512d3d99e2
END:VEVENT
BEGIN:VEVENT
DESCRIPTION:The amazing Sphinx Virtuosi <https://www.sphinxmusic.org/sphinx-virtuosi>\n\nwill work with an clinic ASYO Strings \n\n**This is a Strings Only event - no winds or percussion are involved**\n
DTEND:20251009T233000Z
DTSTAMP:20250624T171519Z
DTSTART:20251009T210000Z
SEQUENCE:1
SUMMARY:Sphinx Virtuosi with ASYO Strings
UID:4fbef61a-1897-42df-bb27-23572cae0c84
END:VEVENT
BEGIN:VEVENT
DESCRIPTION:<https://sites.google.com/ashevillesymphony.org/asyo/rehearsal-details>\n
DTEND:20251014T004500Z
DTSTAMP:20250624T163908Z
DTSTART:20251013T210000Z
SEQUENCE:1
SUMMARY:ASYO Rehearsal
UID:9c97ddad-960f-4b6b-91f6-fb59e35ca7db
END:VEVENT
BEGIN:VEVENT
DESCRIPTION:<https://sites.google.com/ashevillesymphony.org/asyo/rehearsal-details>\n
DTEND:20251021T004500Z
DTSTAMP:20250624T164248Z
DTSTART:20251020T210000Z
SEQUENCE:0
SUMMARY:ASYO Rehearsal
UID:9df20d5d-1a49-43b3-bc92-65d95893d6f4
END:VEVENT
BEGIN:VEVENT
DESCRIPTION:The ASYO Flute Choir meets from 6:15-7:15 in the Large Dance Studio. \n
DTEND:20251020T231500Z
DTSTAMP:20250715T150914Z
DTSTART:20251020T221500Z
SEQUENCE:0
SUMMARY:Flute Choir Rehearsal
UID:3165ac3d-cfb2-495f-ae54-bb8725b9ee6e
END:VEVENT
BEGIN:VEVENT
DESCRIPTION:<https://sites.google.com/ashevillesymphony.org/asyo/rehearsal-details>\n
DTEND:20251028T004500Z
DTSTAMP:20250624T164248Z
DTSTART:20251027T210000Z
SEQUENCE:0
SUMMARY:ASYO Rehearsal
UID:e35022e9-f842-4a50-9446-ffe8cdda2038
END:VEVENT
BEGIN:VEVENT
DESCRIPTION:<https://sites.google.com/ashevillesymphony.org/asyo/rehearsal-details>\n
DTEND:20251104T004500Z
DTSTAMP:20250624T164248Z
DTSTART:20251103T210000Z
SEQUENCE:1
SUMMARY:ASYO Rehearsal
UID:ad0eb5b5-bb1e-478b-b20b-9bf898907ad1
END:VEVENT
BEGIN:VEVENT
DESCRIPTION:The ASYO Flute Choir meets from 6:15-7:15 in the Large Dance Studio. \n
DTEND:20251104T001500Z
DTSTAMP:20250715T150935Z
DTSTART:20251103T231500Z
SEQUENCE:0
SUMMARY:Flute Choir Rehearsal
UID:49ad8ccc-8509-41a5-b2da-bd3472d8a9a6
END:VEVENT
BEGIN:VEVENT
DESCRIPTION:<https://sites.google.com/ashevillesymphony.org/asyo/rehearsal-details>\n
DTEND:20251118T004500Z
DTSTAMP:20250624T164248Z
DTSTART:20251117T210000Z
SEQUENCE:1
SUMMARY:ASYO Rehearsal
UID:e5c467a3-8595-4a53-a715-56b949fb0f80
END:VEVENT
BEGIN:VEVENT
DESCRIPTION:<https://sites.google.com/ashevillesymphony.org/asyo/rehearsal-details>\n
DTEND:20251125T004500Z
DTSTAMP:20250624T164248Z
DTSTART:20251124T210000Z
SEQUENCE:1
SUMMARY:ASYO Rehearsal
UID:5e5e2c93-020a-4352-b227-86fc4f6116bf
END:VEVENT
BEGIN:VEVENT
DESCRIPTION:The ASYO Flute Choir meets from 6:15-7:15 in the Large Dance Studio. \n
DTEND:20251125T001500Z
DTSTAMP:20250715T150955Z
DTSTART:20251124T231500Z
SEQUENCE:0
SUMMARY:Flute Choir Rehearsal
UID:6a782d3f-1e24-4991-abaf-afb330ec3b79
END:VEVENT
BEGIN:VEVENT
DTEND:20251202T014500Z
DTSTAMP:20250624T164514Z
DTSTART:20251201T220000Z
SEQUENCE:0
SUMMARY:Winter Concert Dress Rehearsal
UID:7c5af123-ae35-430b-a9a9-73434ade2da6
END:VEVENT
BEGIN:VEVENT
DESCRIPTION:The Youth Philharmonic will rehearse with the Asheville Symphony Orchestra in preparation for the performance on 12/4\n\n
DTEND:20251204T010000Z
DTSTAMP:20250624T165829Z
DTSTART:20251203T220000Z
SEQUENCE:1
SUMMARY:Cirque de la Symphonie Dress Rehearsal
UID:dc1f4229-36e7-4e11-b3ed-e01a42fc56e5
END:VEVENT
BEGIN:VEVENT
DESCRIPTION:<https://ashevillesymphony.org/event/cirque-de-la-symphonie/>\n\nThe Youth Philharmonic will perform side-by-side with the Asheville Symphony on this concert.\n
DTEND:20251205T020000Z
DTSTAMP:20250624T170453Z
DTSTART:20251204T230000Z
SEQUENCE:1
SUMMARY:Cirque de la Symphonie (with the Asheville Symphony)
UID:160a1305-336e-4ed9-9385-90237e496c27
END:VEVENT
BEGIN:VEVENT
DTEND:20251209T020000Z
DTSTAMP:20250624T164618Z
DTSTART:20251208T220000Z
SEQUENCE:0
SUMMARY:Winter Concert
UID:d675fd9a-e5d4-4ab6-9d7e-aad7f7ac5514
END:VEVENT
BEGIN:VEVENT
DESCRIPTION:These auditions are for **new** members only and** not** designed for members to move between ensembles. \n
DTEND:20260106T013000Z
DTSTAMP:20250624T164743Z
DTSTART:20260105T213000Z
SEQUENCE:1
SUMMARY:Mid-Season Auditions
UID:a98d6224-e00e-4e78-bf15-7b8685dd88d0
END:VEVENT
BEGIN:VEVENT
DESCRIPTION:<https://sites.google.com/ashevillesymphony.org/asyo/rehearsal-details>\n
DTEND:20260113T014500Z
DTSTAMP:20250624T164921Z
DTSTART:20260112T220000Z
SEQUENCE:1
SUMMARY:ASYO Rehearsal
UID:b590b7a6-7e4b-4a78-9aeb-84088dfb49a5
END:VEVENT
BEGIN:VEVENT
DESCRIPTION:The ASYO Flute Choir meets from 6:15-7:15 in the Large Dance Studio. \n
DTEND:20260113T001500Z
DTSTAMP:20250715T151029Z
DTSTART:20260112T231500Z
SEQUENCE:0
SUMMARY:Flute Choir Rehearsal
UID:4d55178d-fbb0-48ec-8cb5-5aebc0152716
END:VEVENT
BEGIN:VEVENT
DESCRIPTION:<https://sites.google.com/ashevillesymphony.org/asyo/rehearsal-details>\n
DTEND:20260127T014500Z
DTSTAMP:20250624T165054Z
DTSTART:20260126T220000Z
SEQUENCE:0
SUMMARY:ASYO Rehearsal
UID:b7012778-2825-4482-8e56-eb2cd4317b74
END:VEVENT
BEGIN:VEVENT
DESCRIPTION:<https://sites.google.com/ashevillesymphony.org/asyo/rehearsal-details>\n
DTEND:20260203T014500Z
DTSTAMP:20250624T165054Z
DTSTART:20260202T220000Z
SEQUENCE:0
SUMMARY:ASYO Rehearsal
UID:c91548ed-5a79-4a50-9bb2-ac466aa1297d
END:VEVENT
BEGIN:VEVENT
DESCRIPTION:The ASYO Flute Choir meets from 6:15-7:15 in the Large Dance Studio. \n
DTEND:20260203T001500Z
DTSTAMP:20250715T151049Z
DTSTART:20260202T231500Z
SEQUENCE:0
SUMMARY:Flute Choir Rehearsal
UID:ab96046c-c288-4295-8ab3-0298a9c2188f
END:VEVENT
BEGIN:VEVENT
DESCRIPTION:<https://sites.google.com/ashevillesymphony.org/asyo/rehearsal-details>\n
DTEND:20260210T014500Z
DTSTAMP:20250624T165054Z
DTSTART:20260209T220000Z
SEQUENCE:0
SUMMARY:ASYO Rehearsal
UID:4ad29398-8b88-4177-bf94-4dc1a24b8403
END:VEVENT
BEGIN:VEVENT
DESCRIPTION:<https://sites.google.com/ashevillesymphony.org/asyo/rehearsal-details>\n
DTEND:20260217T014500Z
DTSTAMP:20250624T165054Z
DTSTART:20260216T220000Z
SEQUENCE:0
SUMMARY:ASYO Rehearsal
UID:0449259c-061c-4cee-afc2-8125d892436b
END:VEVENT
BEGIN:VEVENT
DESCRIPTION:The ASYO Flute Choir meets from 6:15-7:15 in the Large Dance Studio. \n
DTEND:20260217T001500Z
DTSTAMP:20250715T151109Z
DTSTART:20260216T231500Z
SEQUENCE:0
SUMMARY:Flute Choir Rehearsal
UID:5256d166-f9a9-4de6-b77a-42930755396f
END:VEVENT
BEGIN:VEVENT
DESCRIPTION:<https://sites.google.com/ashevillesymphony.org/asyo/rehearsal-details>\n
DTEND:20260224T014500Z
DTSTAMP:20250624T165054Z
DTSTART:20260223T220000Z
SEQUENCE:0
SUMMARY:ASYO Rehearsal
UID:3bccce23-904c-40b0-a574-bae1c716c4cc
END:VEVENT
BEGIN:VEVENT
DESCRIPTION:The ASYO Flute Choir meets from 6:15-7:15 in the Large Dance Studio. \n
DTEND:20260224T001500Z
DTSTAMP:20250715T151128Z
DTSTART:20260223T231500Z
SEQUENCE:0
SUMMARY:Flute Choir Rehearsal
UID:91fb64cb-c9d9-411a-aa0b-343f7cdf0df5
END:VEVENT
BEGIN:VEVENT
DESCRIPTION:The ASYO Flute Choir meets from 6:15-7:15 in the Large Dance Studio. \\n**THIS IS ALSO THE CHAMBER MUSIC SHOWCASE**\n
DTEND:20260309T231500Z
DTSTAMP:20250715T151236Z
DTSTART:20260309T210000Z
SEQUENCE:0
SUMMARY:Flute Choir Rehearsal
UID:7621d172-16ce-4df8-9238-2de6be36fc0f
END:VEVENT
BEGIN:VEVENT
DESCRIPTION:<https://sites.google.com/ashevillesymphony.org/asyo/rehearsal-details>\n
DTEND:20260310T014500Z
DTSTAMP:20250624T165054Z
DTSTART:20260309T220000Z
SEQUENCE:0
SUMMARY:ASYO Rehearsal
UID:ea1c541f-fd32-4229-a6db-e225d3bdb3da
END:VEVENT
BEGIN:VEVENT
DESCRIPTION:<https://sites.google.com/ashevillesymphony.org/asyo/rehearsal-details>\n
DTEND:20260317T014500Z
DTSTAMP:20250624T165054Z
DTSTART:20260316T220000Z
SEQUENCE:0
SUMMARY:ASYO Rehearsal
UID:dbd4795d-cf32-4f35-9528-b1d9612df803
END:VEVENT
BEGIN:VEVENT
DESCRIPTION:Guest Artist with select groups of the ASYO\n\n***The Youth Philharmonic and Concert Orchestra will perform on this concert.*** \n
DTEND:20260324T003000Z
DTSTAMP:20250624T165455Z
DTSTART:20260323T223000Z
SEQUENCE:37428
SUMMARY:Isabel Leonard with ASYO
UID:6406c3e1-d98d-496f-ae8f-7afe6bfcfcdc
END:VEVENT
BEGIN:VEVENT
DESCRIPTION:<https://sites.google.com/ashevillesymphony.org/asyo/rehearsal-details>\n
DTEND:20260331T014500Z
DTSTAMP:20250624T165054Z
DTSTART:20260330T220000Z
SEQUENCE:0
SUMMARY:ASYO Rehearsal
UID:b3378ede-c330-44ff-898d-79d845922c94
END:VEVENT
BEGIN:VEVENT
DESCRIPTION:The ASYO Flute Choir meets from 6:15-7:15 in the Large Dance Studio. \n
DTEND:20260330T231500Z
DTSTAMP:20250715T151302Z
DTSTART:20260330T221500Z
SEQUENCE:0
SUMMARY:Flute Choir Rehearsal
UID:1f127e46-5548-4a54-8e32-12c8fe95de9d
END:VEVENT
BEGIN:VEVENT
DESCRIPTION:<https://sites.google.com/ashevillesymphony.org/asyo/rehearsal-details>\n
DTEND:20260414T014500Z
DTSTAMP:20250624T165054Z
DTSTART:20260413T220000Z
SEQUENCE:0
SUMMARY:ASYO Rehearsal
UID:dae39997-e873-4768-a659-e2d6d7ff91c5
END:VEVENT
BEGIN:VEVENT
DESCRIPTION:Chamber Music Programs will perform for the public and their peers. \n\n***There are still rehearsals this night. ***\n
DTEND:20260413T230000Z
DTSTAMP:20250624T165652Z
DTSTART:20260413T220000Z
SEQUENCE:37020
SUMMARY:Chamber Music Showcase
UID:a3068370-94f1-41b4-9d60-fbf05a9255db
END:VEVENT
BEGIN:VEVENT
DESCRIPTION:<https://sites.google.com/ashevillesymphony.org/asyo/rehearsal-details>\n
DTEND:20260421T014500Z
DTSTAMP:20250624T165054Z
DTSTART:20260420T220000Z
SEQUENCE:0
SUMMARY:ASYO Rehearsal
UID:8b6f32f7-aea6-4147-9206-4f630b54dda0
END:VEVENT
BEGIN:VEVENT
DESCRIPTION:The ASYO Flute Choir meets from 6:15-7:15 in the Large Dance Studio. \n
DTEND:20260420T231500Z
DTSTAMP:20250715T151326Z
DTSTART:20260420T221500Z
SEQUENCE:0
SUMMARY:Flute Choir Rehearsal
UID:502f76e7-e880-4296-8a3a-4a2b9c21a530
END:VEVENT
BEGIN:VEVENT
DTEND:20260428T004500Z
DTSTAMP:20250624T165242Z
DTSTART:20260427T210000Z
SEQUENCE:1
SUMMARY:Spring Concert Dress Rehearsal
UID:248bf0ff-6466-42cc-9327-2bbb9ef3ac4c
END:VEVENT
BEGIN:VEVENT
DTEND:20260505T010000Z
DTSTAMP:20250624T165406Z
DTSTART:20260504T213000Z
SEQUENCE:0
SUMMARY:Spring Concert
UID:75e41b7d-e773-4c3c-8912-4b6f8650b44a
END:VEVENT
END:VCALENDAR
